BEGIN:VCALENDAR
VERSION:2.0
METHOD:PUBLISH
CALSCALE:GREGORIAN
PRODID:-//Refresh Web Development//Helios Calendar//EN
X-FROM-URL:https://www.bayareascience.org/calendar/index.php?com=details&eID=39517
X-WR-RELCALID:BayAreaScience.org AI Beyond ChatGPT 20260104T110000
X-WR-TIMEZONE:America/New_York
X-WR-CALNAME:BayAreaScience.org
BEGIN:VEVENT
URL;VALUE=URI:https://www.bayareascience.org/calendar/index.php?com=detail&eID=39517
DTSTART:20260104T110000
DTEND:20260104T123000
SUMMARY:AI Beyond ChatGPT
DESCRIPTION:The focus of this discussion will be on General Artificial Super-Intelligence (GASI) coming next after Generative AI (GenAI\, such as ChatGPT) based on Large Language Models (LLMs). We'll try to...\n______________________________\nThis Event Downloaded From a Helios Calendar Powered Site
LOCATION:Neutra House Conference Center - 181 Hillview Ave \, Los Altos\, CA  94022
CATEGORIES:BayAreaScience.org Events
PRIORITY:0
TRANSP:TRANSPARENT
END:VEVENT
END:VCALENDAR