BEGIN:VCALENDAR
VERSION:2.0
METHOD:PUBLISH
CALSCALE:GREGORIAN
PRODID:-//Refresh Web Development//Helios Calendar//EN
X-FROM-URL:https://www.bayareascience.org/calendar/index.php?com=details&eID=39521
X-WR-RELCALID:BayAreaScience.org Let’s Chat about Healthful Changes - Livestream 20260108T170000
X-WR-TIMEZONE:America/New_York
X-WR-CALNAME:BayAreaScience.org
BEGIN:VEVENT
URL;VALUE=URI:https://www.bayareascience.org/calendar/index.php?com=detail&eID=39521
DTSTART:20260108T170000
DTEND:20260108T170000
SUMMARY:Let’s Chat about Healthful Changes - Livestream
DESCRIPTION:Leah shares evidence-based recommendations to help you move from thinking about a healthy change to taking action and motivating you to start now! Whether you’re trying to improve habits around...\n______________________________\nThis Event Downloaded From a Helios Calendar Powered Site
LOCATION:Stanford Health Library -  \, \, CA  
CATEGORIES:BayAreaScience.org Events
PRIORITY:0
TRANSP:TRANSPARENT
END:VEVENT
END:VCALENDAR