BEGIN:VCALENDAR
VERSION:2.0
METHOD:PUBLISH
CALSCALE:GREGORIAN
PRODID:-//Refresh Web Development//Helios Calendar//EN
X-FROM-URL:https://www.bayareascience.org/calendar/index.php?com=details&eID=39524
X-WR-RELCALID:BayAreaScience.org Encoding Information in Quantum Materials 20260107T190000
X-WR-TIMEZONE:America/New_York
X-WR-CALNAME:BayAreaScience.org
BEGIN:VEVENT
URL;VALUE=URI:https://www.bayareascience.org/calendar/index.php?com=detail&eID=39524
DTSTART:20260107T190000
DTEND:20260107T210000
SUMMARY:Encoding Information in Quantum Materials
DESCRIPTION:What if the future of technology depends on the surprising ways matter can remember?Join us for a lecture with Koh Yamakawa\, a UC Berkeley physicist studying...\n______________________________\nThis Event Downloaded From a Helios Calendar Powered Site
LOCATION:Madrone Art Bar - 500 Divisadero St \, San Francisco\, CA  94117
CATEGORIES:BayAreaScience.org Events
PRIORITY:0
TRANSP:TRANSPARENT
END:VEVENT
END:VCALENDAR