BEGIN:VCALENDAR
VERSION:2.0
METHOD:PUBLISH
CALSCALE:GREGORIAN
PRODID:-//Refresh Web Development//Helios Calendar//EN
X-FROM-URL:https://www.bayareascience.org/calendar/index.php?com=details&eID=39526
X-WR-RELCALID:BayAreaScience.org Everyday Rewards and the Science of Addiction - SOLD OUT 20260121T190000
X-WR-TIMEZONE:America/New_York
X-WR-CALNAME:BayAreaScience.org
BEGIN:VEVENT
URL;VALUE=URI:https://www.bayareascience.org/calendar/index.php?com=detail&eID=39526
DTSTART:20260121T190000
DTEND:20260121T210000
SUMMARY:Everyday Rewards and the Science of Addiction - SOLD OUT
DESCRIPTION:What if addiction isn’t just about substances - but about the rewards that compete with them?Join Dr. Keanan Joyner\, UC Berkeley Assistant Professor of...\n______________________________\nThis Event Downloaded From a Helios Calendar Powered Site
LOCATION:Wave - 663 Haight St \, San Francisco\, CA  94117
CATEGORIES:BayAreaScience.org Events
PRIORITY:0
TRANSP:TRANSPARENT
END:VEVENT
END:VCALENDAR