BEGIN:VCALENDAR
VERSION:2.0
METHOD:PUBLISH
CALSCALE:GREGORIAN
PRODID:-//Refresh Web Development//Helios Calendar//EN
X-FROM-URL:https://www.bayareascience.org/calendar/index.php?com=details&eID=39540
X-WR-RELCALID:BayAreaScience.org Ocean Beach Noticing Lab 20260103T090000
X-WR-TIMEZONE:America/New_York
X-WR-CALNAME:BayAreaScience.org
BEGIN:VEVENT
URL;VALUE=URI:https://www.bayareascience.org/calendar/index.php?com=detail&eID=39540
DTSTART:20260103T090000
DTEND:20260103T120000
SUMMARY:Ocean Beach Noticing Lab
DESCRIPTION:Join us for a drop-in\, hands-on exploration of Ocean Beach through interactive “Noticing Tools” that help us see how this coastline is changing in real time. Rotate through activities: where...\n______________________________\nThis Event Downloaded From a Helios Calendar Powered Site
LOCATION:Ocean Beach - Judah and Great Highway \, San Francisco\, CA  94122
CATEGORIES:BayAreaScience.org Events
PRIORITY:0
TRANSP:TRANSPARENT
END:VEVENT
END:VCALENDAR