BEGIN:VCALENDAR
VERSION:2.0
METHOD:PUBLISH
CALSCALE:GREGORIAN
PRODID:-//Refresh Web Development//Helios Calendar//EN
X-FROM-URL:https://www.bayareascience.org/calendar/index.php?com=details&eID=39545
X-WR-RELCALID:BayAreaScience.org The Growth of Cosmic Behemoths 20260115T190000
X-WR-TIMEZONE:America/New_York
X-WR-CALNAME:BayAreaScience.org
BEGIN:VEVENT
URL;VALUE=URI:https://www.bayareascience.org/calendar/index.php?com=detail&eID=39545
DTSTART:20260115T190000
DTEND:20260115T203000
SUMMARY:The Growth of Cosmic Behemoths
DESCRIPTION:Dr. Devontae Baxter (UC San Diego) is an observational and computational astrophysicist investigating the dependence of environment on galaxy formation and evolution. His work is primarily centered...\n______________________________\nThis Event Downloaded From a Helios Calendar Powered Site
LOCATION:Los Altos Public Library - 13 S San Antonio Rd Peninsula Astronomical Society\, Los Altos\, CA  94022
CATEGORIES:BayAreaScience.org Events
PRIORITY:0
TRANSP:TRANSPARENT
END:VEVENT
END:VCALENDAR