BEGIN:VCALENDAR
VERSION:2.0
METHOD:PUBLISH
CALSCALE:GREGORIAN
PRODID:-//Refresh Web Development//Helios Calendar//EN
X-FROM-URL:https://www.bayareascience.org/calendar/index.php?com=details&eID=39680
X-WR-RELCALID:BayAreaScience.org Hidden in plain sight: Long-term impacts of respiratory virus infections 20260205T110000
X-WR-TIMEZONE:America/New_York
X-WR-CALNAME:BayAreaScience.org
BEGIN:VEVENT
URL;VALUE=URI:https://www.bayareascience.org/calendar/index.php?com=detail&eID=39680
DTSTART:20260205T110000
DTEND:20260205T120000
SUMMARY:Hidden in plain sight: Long-term impacts of respiratory virus infections
DESCRIPTION:Respiratory RNA viruses pose a significant public health challenge by causing life-threatening seasonal infections with long-lasting implications in chronic pulmonary conditions. While infections...\n______________________________\nThis Event Downloaded From a Helios Calendar Powered Site
LOCATION:Weill Hall - UC Berkeley Room 101\, Berkeley\, CA  94720
CATEGORIES:BayAreaScience.org Events
PRIORITY:0
TRANSP:TRANSPARENT
END:VEVENT
END:VCALENDAR