BEGIN:VCALENDAR
VERSION:2.0
METHOD:PUBLISH
CALSCALE:GREGORIAN
PRODID:-//Refresh Web Development//Helios Calendar//EN
X-FROM-URL:https://www.bayareascience.org/calendar/index.php?com=details&eID=39684
X-WR-RELCALID:BayAreaScience.org Beyond the Classical Paradigm: Redefining Immune Responses in Tissue Repair and Development 20260203T110000
X-WR-TIMEZONE:America/New_York
X-WR-CALNAME:BayAreaScience.org
BEGIN:VEVENT
URL;VALUE=URI:https://www.bayareascience.org/calendar/index.php?com=detail&eID=39684
DTSTART:20260203T110000
DTEND:20260203T120000
SUMMARY:Beyond the Classical Paradigm: Redefining Immune Responses in Tissue Repair and Development
DESCRIPTION:Beyond classical microbial defense\, barrier tissue immune cells integrate dynamic environmental and intrinsic signals while communicating with parenchymal cells to maintain homeostasis and shape...\n______________________________\nThis Event Downloaded From a Helios Calendar Powered Site
LOCATION:Weill Hall - UC Berkeley Room 101\, Berkeley\, CA  94720
CATEGORIES:BayAreaScience.org Events
PRIORITY:0
TRANSP:TRANSPARENT
END:VEVENT
END:VCALENDAR