BEGIN:VCALENDAR
VERSION:2.0
METHOD:PUBLISH
CALSCALE:GREGORIAN
PRODID:-//Refresh Web Development//Helios Calendar//EN
X-FROM-URL:https://www.bayareascience.org/calendar/index.php?com=details&eID=39702
X-WR-RELCALID:BayAreaScience.org Washington's White Birds of Winter: Snow Geese & Swans - Livestream 20260211T180000
X-WR-TIMEZONE:America/New_York
X-WR-CALNAME:BayAreaScience.org
BEGIN:VEVENT
URL;VALUE=URI:https://www.bayareascience.org/calendar/index.php?com=detail&eID=39702
DTSTART:20260211T180000
DTEND:20260211T180000
SUMMARY:Washington's White Birds of Winter: Snow Geese & Swans - Livestream
DESCRIPTION:Well-known wildlife biologist Martha Jordan will present a program regarding the changing landscape that our swans and snow geese now face in migration and on their wintering grounds. You will...\n______________________________\nThis Event Downloaded From a Helios Calendar Powered Site
LOCATION:Skagit Land Trust -  \, \, CA  
CATEGORIES:BayAreaScience.org Events
PRIORITY:0
TRANSP:TRANSPARENT
END:VEVENT
END:VCALENDAR