BEGIN:VCALENDAR
VERSION:2.0
METHOD:PUBLISH
CALSCALE:GREGORIAN
PRODID:-//Refresh Web Development//Helios Calendar//EN
X-FROM-URL:https://www.bayareascience.org/calendar/index.php?com=details&eID=40028
X-WR-RELCALID:BayAreaScience.org Art without an Artist: Can AI be Considered an Artist 20260320T193000
X-WR-TIMEZONE:America/New_York
X-WR-CALNAME:BayAreaScience.org
BEGIN:VEVENT
URL;VALUE=URI:https://www.bayareascience.org/calendar/index.php?com=detail&eID=40028
DTSTART:20260320T193000
DTEND:20260320T213000
SUMMARY:Art without an Artist: Can AI be Considered an Artist
DESCRIPTION:Artificial intelligence has become part of almost everything we do\, especially in creating art. The speed of making art has increased tremendously. In this talk\, I want to explore: can we think...\n______________________________\nThis Event Downloaded From a Helios Calendar Powered Site
LOCATION:College of San Mateo - 1700 W Hillsdale Blvd \, San Mateo\, CA USA 94402
CATEGORIES:BayAreaScience.org Events
PRIORITY:0
TRANSP:TRANSPARENT
END:VEVENT
END:VCALENDAR