BEGIN:VCALENDAR
VERSION:2.0
METHOD:PUBLISH
CALSCALE:GREGORIAN
PRODID:-//Refresh Web Development//Helios Calendar//EN
X-FROM-URL:https://www.bayareascience.org/calendar/index.php?com=details&eID=40108
X-WR-RELCALID:BayAreaScience.org AI and Democracy 20260311T170000
X-WR-TIMEZONE:America/New_York
X-WR-CALNAME:BayAreaScience.org
BEGIN:VEVENT
URL;VALUE=URI:https://www.bayareascience.org/calendar/index.php?com=detail&eID=40108
DTSTART:20260311T170000
DTEND:20260311T183000
SUMMARY:AI and Democracy
DESCRIPTION:The UC Berkeley AI and Society Initiative welcomes Larry Norden (NYU Brennan Center for Justice)\, David Evan Harris (Haas)\, and Ashish Goel (Stanford) to discuss AI and democracy. Professors Norden...\n______________________________\nThis Event Downloaded From a Helios Calendar Powered Site
LOCATION:Soda Hall - UC Berkeley Wozniak Lounge\, Berkeley\, CA  94720
CATEGORIES:BayAreaScience.org Events
PRIORITY:0
TRANSP:TRANSPARENT
END:VEVENT
END:VCALENDAR