BEGIN:VCALENDAR
VERSION:2.0
METHOD:PUBLISH
CALSCALE:GREGORIAN
PRODID:-//Refresh Web Development//Helios Calendar//EN
X-FROM-URL:https://www.bayareascience.org/calendar/index.php?com=details&eID=40130
X-WR-RELCALID:BayAreaScience.org Wonderfest: Ask a Science Envoy: Cosmology & Evolution 20260414T190000
X-WR-TIMEZONE:America/New_York
X-WR-CALNAME:BayAreaScience.org
BEGIN:VEVENT
URL;VALUE=URI:https://www.bayareascience.org/calendar/index.php?com=detail&eID=40130
DTSTART:20260414T190000
DTEND:20260414T203000
SUMMARY:Wonderfest: Ask a Science Envoy: Cosmology & Evolution
DESCRIPTION:Stanford physicist Mahlet Shiferaw on Learning Cosmology from Galaxies - The Universe is shaped by an invisible “cosmic web” of dark matter that guides where galaxies...\n______________________________\nThis Event Downloaded From a Helios Calendar Powered Site
LOCATION:Hopmonk Tavern - Session Room 224 Vintage Way\, Novato\, CA  94945
CATEGORIES:BayAreaScience.org Events
PRIORITY:0
TRANSP:TRANSPARENT
END:VEVENT
END:VCALENDAR