BEGIN:VCALENDAR
VERSION:2.0
METHOD:PUBLISH
CALSCALE:GREGORIAN
PRODID:-//Refresh Web Development//Helios Calendar//EN
X-FROM-URL:https://www.bayareascience.org/calendar/index.php?com=details&eID=40176
X-WR-RELCALID:BayAreaScience.org Astronomy on Tap East Bay - Two Talks 20260310T193000
X-WR-TIMEZONE:America/New_York
X-WR-CALNAME:BayAreaScience.org
BEGIN:VEVENT
URL;VALUE=URI:https://www.bayareascience.org/calendar/index.php?com=detail&eID=40176
DTSTART:20260310T193000
DTEND:20260310T213000
SUMMARY:Astronomy on Tap East Bay - Two Talks
DESCRIPTION:This month\, we have two excellent talks lined up: First\, Natasha Abrams (UC Berkeley) will discuss the variety of techniques astronomers use to observe and study black holes. Then we’ll hear...\n______________________________\nThis Event Downloaded From a Helios Calendar Powered Site
LOCATION:Two Pitchers Oakland - 2344 Webster St \, Oakland\, CA  94612
CATEGORIES:BayAreaScience.org Events
PRIORITY:0
TRANSP:TRANSPARENT
END:VEVENT
END:VCALENDAR