BEGIN:VCALENDAR
VERSION:2.0
METHOD:PUBLISH
CALSCALE:GREGORIAN
PRODID:-//Refresh Web Development//Helios Calendar//EN
X-FROM-URL:https://www.bayareascience.org/calendar/index.php?com=details&eID=40210
X-WR-RELCALID:BayAreaScience.org Morning Hike at San Vicente Redwoods 20260412T100000
X-WR-TIMEZONE:America/New_York
X-WR-CALNAME:BayAreaScience.org
BEGIN:VEVENT
URL;VALUE=URI:https://www.bayareascience.org/calendar/index.php?com=detail&eID=40210
DTSTART:20260412T100000
DTEND:20260412T123000
SUMMARY:Morning Hike at San Vicente Redwoods
DESCRIPTION:Join us for a community hike at San Vicente Redwoods! This will be a moderate hike of 3.5 miles with moderate elevation gain. Guests will be led by a POST ambassador\, who will share about the human...\n______________________________\nThis Event Downloaded From a Helios Calendar Powered Site
LOCATION:San Vicente Redwoods Trailhead - 12001 Empire Grade \, Santa Cruz\, CA  95060
CATEGORIES:BayAreaScience.org Events
PRIORITY:0
TRANSP:TRANSPARENT
END:VEVENT
END:VCALENDAR