BEGIN:VCALENDAR
VERSION:2.0
METHOD:PUBLISH
CALSCALE:GREGORIAN
PRODID:-//Refresh Web Development//Helios Calendar//EN
X-FROM-URL:https://www.bayareascience.org/calendar/index.php?com=details&eID=40214
X-WR-RELCALID:BayAreaScience.org Wonderfest: Ask a Science Envoy: Elements & Fairness 20260428T190000
X-WR-TIMEZONE:America/New_York
X-WR-CALNAME:BayAreaScience.org
BEGIN:VEVENT
URL;VALUE=URI:https://www.bayareascience.org/calendar/index.php?com=detail&eID=40214
DTSTART:20260428T190000
DTEND:20260428T203000
SUMMARY:Wonderfest: Ask a Science Envoy: Elements & Fairness
DESCRIPTION:Wonderfest Science Envoys are early-career researchers with enhanced communication skills and aspirations. Following short talks on provocative modern science topics\, these two Science Envoys will...\n______________________________\nThis Event Downloaded From a Helios Calendar Powered Site
LOCATION:Hopmonk Tavern - Session Room 224 Vintage Way\, Novato\, CA  94945
CATEGORIES:BayAreaScience.org Events
PRIORITY:0
TRANSP:TRANSPARENT
END:VEVENT
END:VCALENDAR