BEGIN:VCALENDAR
VERSION:2.0
METHOD:PUBLISH
CALSCALE:GREGORIAN
PRODID:-//Refresh Web Development//Helios Calendar//EN
X-FROM-URL:https://www.bayareascience.org/calendar/index.php?com=details&eID=40265
X-WR-RELCALID:BayAreaScience.org SLAC on Tap: Atoms in slow motion, the skyrmion, and crackling magnets: the hidden world of quantum materials  20260414T173000
X-WR-TIMEZONE:America/New_York
X-WR-CALNAME:BayAreaScience.org
BEGIN:VEVENT
URL;VALUE=URI:https://www.bayareascience.org/calendar/index.php?com=detail&eID=40265
DTSTART:20260414T173000
DTEND:20260414T190000
SUMMARY:SLAC on Tap: Atoms in slow motion\, the skyrmion\, and crackling magnets: the hidden world of quantum materials 
DESCRIPTION:What do the sound of Rice Krispies and the motion of atoms and magnets have in common? SLAC scientist Joshua Turner will take us inside the hidden world of quantum materials\; he will show how watching...\n______________________________\nThis Event Downloaded From a Helios Calendar Powered Site
LOCATION:The Dutch Goose - 3567 Alameda de las Pulgas \, Menlo Park\, CA  94025
CATEGORIES:BayAreaScience.org Events
PRIORITY:0
TRANSP:TRANSPARENT
END:VEVENT
END:VCALENDAR