BEGIN:VCALENDAR
VERSION:2.0
METHOD:PUBLISH
CALSCALE:GREGORIAN
PRODID:-//Refresh Web Development//Helios Calendar//EN
X-FROM-URL:https://www.bayareascience.org/calendar/index.php?com=details&eID=40287
X-WR-RELCALID:BayAreaScience.org Family-friendly and Bilingual Bird Walk at the UCSC Arboretum 20260329T100000
X-WR-TIMEZONE:America/New_York
X-WR-CALNAME:BayAreaScience.org
BEGIN:VEVENT
URL;VALUE=URI:https://www.bayareascience.org/calendar/index.php?com=detail&eID=40287
DTSTART:20260329T100000
DTEND:20260329T120000
SUMMARY:Family-friendly and Bilingual Bird Walk at the UCSC Arboretum
DESCRIPTION:Join the Bird School Project as they help kick-off the celebrations for Hummingbird Month in the beautiful gardens of the UCSC Arboretum & Botanic Garden. This...\n______________________________\nThis Event Downloaded From a Helios Calendar Powered Site
LOCATION:UC Santa Cruz Arboretum - 122 Arboretum Rd \, Santa Cruz\, CA  95064
CATEGORIES:BayAreaScience.org Events
PRIORITY:0
TRANSP:TRANSPARENT
END:VEVENT
END:VCALENDAR