BEGIN:VCALENDAR
VERSION:2.0
METHOD:PUBLISH
CALSCALE:GREGORIAN
PRODID:-//Refresh Web Development//Helios Calendar//EN
X-FROM-URL:https://www.bayareascience.org/calendar/index.php?com=details&eID=40439
X-WR-RELCALID:BayAreaScience.org Wetland Plant Tour at the EEC 20260530T093000
X-WR-TIMEZONE:America/New_York
X-WR-CALNAME:BayAreaScience.org
BEGIN:VEVENT
URL;VALUE=URI:https://www.bayareascience.org/calendar/index.php?com=detail&eID=40439
DTSTART:20260530T093000
DTEND:20260530T110000
SUMMARY:Wetland Plant Tour at the EEC
DESCRIPTION:Enjoy a guided walk through the Refuge's many habitats while learning about our native plant species!Calling all plant enthusiasts! Join us on a guided tour through the Refuge's many habitat...\n______________________________\nThis Event Downloaded From a Helios Calendar Powered Site
LOCATION:Don Edwards Refuge Environmental Education Center - 1751 Grand Blvd \, Alviso\, CA  95002
CATEGORIES:BayAreaScience.org Events
PRIORITY:0
TRANSP:TRANSPARENT
END:VEVENT
END:VCALENDAR