BEGIN:VCALENDAR
VERSION:2.0
METHOD:PUBLISH
CALSCALE:GREGORIAN
PRODID:-//Refresh Web Development//Helios Calendar//EN
X-FROM-URL:https://www.bayareascience.org/calendar/index.php?com=details&eID=40440
X-WR-RELCALID:BayAreaScience.org  Baratunde Thurston & Blaise Agüera y Arcas  20261022T190000
X-WR-TIMEZONE:America/New_York
X-WR-CALNAME:BayAreaScience.org
BEGIN:VEVENT
URL;VALUE=URI:https://www.bayareascience.org/calendar/index.php?com=detail&eID=40440
DTSTART:20261022T190000
DTEND:20261022T190000
SUMMARY: Baratunde Thurston & Blaise Agüera y Arcas 
DESCRIPTION:Baratunde Thurston is an Emmy-nominated storyteller\, producer\, and thought leader weaving stories of interdependence across our relationships with nature\, humans\, and technology. As the host of...\n______________________________\nThis Event Downloaded From a Helios Calendar Powered Site
LOCATION:TBA -  \, \, CA  
CATEGORIES:BayAreaScience.org Events
PRIORITY:0
TRANSP:TRANSPARENT
END:VEVENT
END:VCALENDAR