BEGIN:VCALENDAR
VERSION:2.0
METHOD:PUBLISH
CALSCALE:GREGORIAN
PRODID:-//Refresh Web Development//Helios Calendar//EN
X-FROM-URL:https://www.bayareascience.org/calendar/index.php?com=details&eID=40442
X-WR-RELCALID:BayAreaScience.org Hike at Calero County Park 20260502T090000
X-WR-TIMEZONE:America/New_York
X-WR-CALNAME:BayAreaScience.org
BEGIN:VEVENT
URL;VALUE=URI:https://www.bayareascience.org/calendar/index.php?com=detail&eID=40442
DTSTART:20260502T090000
DTEND:20260502T123000
SUMMARY:Hike at Calero County Park
DESCRIPTION:Join Peninsula Open Space Trust (POST) at Calero County Park\, one of the region’s most beautiful oak woodlands just south of San Jose on the westside of Santa Clara Valley. You will be led by...\n______________________________\nThis Event Downloaded From a Helios Calendar Powered Site
LOCATION:Calero County Park - 23205 McKean Rd \, San Jose\, CA  95120
CATEGORIES:BayAreaScience.org Events
PRIORITY:0
TRANSP:TRANSPARENT
END:VEVENT
END:VCALENDAR