BEGIN:VCALENDAR
VERSION:2.0
METHOD:PUBLISH
CALSCALE:GREGORIAN
PRODID:-//Refresh Web Development//Helios Calendar//EN
X-FROM-URL:https://www.bayareascience.org/calendar/index.php?com=details&eID=40449
X-WR-RELCALID:BayAreaScience.org A Field Guide to Getting Swindled: Why Your Brain Is a Charlatan’s Best Friend - Livestream 20260514T193000
X-WR-TIMEZONE:America/New_York
X-WR-CALNAME:BayAreaScience.org
BEGIN:VEVENT
URL;VALUE=URI:https://www.bayareascience.org/calendar/index.php?com=detail&eID=40449
DTSTART:20260514T193000
DTEND:20260514T193000
SUMMARY:A Field Guide to Getting Swindled: Why Your Brain Is a Charlatan’s Best Friend - Livestream
DESCRIPTION:In this...\n______________________________\nThis Event Downloaded From a Helios Calendar Powered Site
LOCATION:Bay Area Skeptics -  \, \, CA  
CATEGORIES:BayAreaScience.org Events
PRIORITY:0
TRANSP:TRANSPARENT
END:VEVENT
END:VCALENDAR