BEGIN:VCALENDAR
VERSION:2.0
METHOD:PUBLISH
CALSCALE:GREGORIAN
PRODID:-//Refresh Web Development//Helios Calendar//EN
X-FROM-URL:https://www.bayareascience.org/calendar/index.php?com=details&eID=40452
X-WR-RELCALID:BayAreaScience.org Breathing Your Way Out of Fight-or-Flight: The Power of Nervous System Regulation 20260514T190000
X-WR-TIMEZONE:America/New_York
X-WR-CALNAME:BayAreaScience.org
BEGIN:VEVENT
URL;VALUE=URI:https://www.bayareascience.org/calendar/index.php?com=detail&eID=40452
DTSTART:20260514T190000
DTEND:20260514T210000
SUMMARY:Breathing Your Way Out of Fight-or-Flight: The Power of Nervous System Regulation
DESCRIPTION:\n______________________________\nThis Event Downloaded From a Helios Calendar Powered Site
LOCATION:Decentered Arts Studio - 1175 Folsom St \, San Francisco\, CA  94103
CATEGORIES:BayAreaScience.org Events
PRIORITY:0
TRANSP:TRANSPARENT
END:VEVENT
END:VCALENDAR