BEGIN:VCALENDAR
VERSION:2.0
METHOD:PUBLISH
CALSCALE:GREGORIAN
PRODID:-//Refresh Web Development//Helios Calendar//EN
X-FROM-URL:https://www.bayareascience.org/calendar/index.php?com=details&eID=40462
X-WR-RELCALID:BayAreaScience.org National River Cleanup Day at the EEC 20260516T090000
X-WR-TIMEZONE:America/New_York
X-WR-CALNAME:BayAreaScience.org
BEGIN:VEVENT
URL;VALUE=URI:https://www.bayareascience.org/calendar/index.php?com=detail&eID=40462
DTSTART:20260516T090000
DTEND:20260516T120000
SUMMARY:National River Cleanup Day at the EEC
DESCRIPTION:Volunteer to help clean up litter at the Environmental Education Center!Join us for National River Cleanup Day! We'd love your help picking up litter from the roads and trails around the...\n______________________________\nThis Event Downloaded From a Helios Calendar Powered Site
LOCATION:Don Edwards Refuge Environmental Education Center - 1751 Grand Blvd \, Alviso\, CA  95002
CATEGORIES:BayAreaScience.org Events
PRIORITY:0
TRANSP:TRANSPARENT
END:VEVENT
END:VCALENDAR