BEGIN:VCALENDAR
VERSION:2.0
METHOD:PUBLISH
CALSCALE:GREGORIAN
PRODID:-//Refresh Web Development//Helios Calendar//EN
X-FROM-URL:https://www.bayareascience.org/calendar/index.php?com=details&eID=40471
X-WR-RELCALID:BayAreaScience.org A night of mountain lions ??' Movie night at Martin Griffin Preserve 20260523T180000
X-WR-TIMEZONE:America/New_York
X-WR-CALNAME:BayAreaScience.org
BEGIN:VEVENT
URL;VALUE=URI:https://www.bayareascience.org/calendar/index.php?com=detail&eID=40471
DTSTART:20260523T180000
DTEND:20260523T180000
SUMMARY:A night of mountain lions ??' Movie night at Martin Griffin Preserve
DESCRIPTION:A film night dedicated to mountain lion conservation featuring the short documentary The Path of Puma-36.Join us for this first ever movie night at Martin Griffin Preserve dedicated...\n______________________________\nThis Event Downloaded From a Helios Calendar Powered Site
LOCATION:Martin Griffin Preserve - 4900 Shoreline Highway 1 \, Stinson Beach\, CA  94970
CATEGORIES:BayAreaScience.org Events
PRIORITY:0
TRANSP:TRANSPARENT
END:VEVENT
END:VCALENDAR