BEGIN:VCALENDAR
VERSION:2.0
METHOD:PUBLISH
CALSCALE:GREGORIAN
PRODID:-//Refresh Web Development//Helios Calendar//EN
X-FROM-URL:https://www.bayareascience.org/calendar/index.php?com=details&eID=40472
X-WR-RELCALID:BayAreaScience.org After Dark: Staying Alive 20260521T180000
X-WR-TIMEZONE:America/New_York
X-WR-CALNAME:BayAreaScience.org
BEGIN:VEVENT
URL;VALUE=URI:https://www.bayareascience.org/calendar/index.php?com=detail&eID=40472
DTSTART:20260521T180000
DTEND:20260521T220000
SUMMARY:After Dark: Staying Alive
DESCRIPTION:What does it take to survive - and thrive - in a digital world? Tonight\, join the fire department to learn hands-only CPR. Then dig into conversations about algorithms and driverless cars\, guided...\n______________________________\nThis Event Downloaded From a Helios Calendar Powered Site
LOCATION:ExplOratorium - Pier 15 (Embarcadero at Green Street)  \, San Francisco\, CA USA 94111
CATEGORIES:BayAreaScience.org Events
PRIORITY:0
TRANSP:TRANSPARENT
END:VEVENT
END:VCALENDAR