BEGIN:VCALENDAR
VERSION:2.0
METHOD:PUBLISH
CALSCALE:GREGORIAN
PRODID:-//Refresh Web Development//Helios Calendar//EN
X-FROM-URL:https://www.bayareascience.org/calendar/index.php?com=details&eID=40474
X-WR-RELCALID:BayAreaScience.org HOW FLOWERS MADE OUR WORLD 20260520T173000
X-WR-TIMEZONE:America/New_York
X-WR-CALNAME:BayAreaScience.org
BEGIN:VEVENT
URL;VALUE=URI:https://www.bayareascience.org/calendar/index.php?com=detail&eID=40474
DTSTART:20260520T173000
DTEND:20260520T183000
SUMMARY:HOW FLOWERS MADE OUR WORLD
DESCRIPTION:Join us for a very special evening in the Redwood Grove with two-time Pulitzer Finalist David George Haskell in conversation with KQED radio host Alexis Madrigal as they...\n______________________________\nThis Event Downloaded From a Helios Calendar Powered Site
LOCATION:Redwood Grove Amphiteater - 200 Centenial Drive \, Berkeley\, CA 94705 
CATEGORIES:BayAreaScience.org Events
PRIORITY:0
TRANSP:TRANSPARENT
END:VEVENT
END:VCALENDAR