BEGIN:VCALENDAR
VERSION:2.0
METHOD:PUBLISH
CALSCALE:GREGORIAN
PRODID:-//Refresh Web Development//Helios Calendar//EN
X-FROM-URL:https://www.bayareascience.org/calendar/index.php?com=details&eID=40477
X-WR-RELCALID:BayAreaScience.org Ideological Conflicts in Science Acceptance 20260426T110000
X-WR-TIMEZONE:America/New_York
X-WR-CALNAME:BayAreaScience.org
BEGIN:VEVENT
URL;VALUE=URI:https://www.bayareascience.org/calendar/index.php?com=detail&eID=40477
DTSTART:20260426T110000
DTEND:20260426T123000
SUMMARY:Ideological Conflicts in Science Acceptance
DESCRIPTION:Join...\n______________________________\nThis Event Downloaded From a Helios Calendar Powered Site
LOCATION:Grant Park Community Center - 1574 Holt Ave Room 2\, Los Altos\, CA  94024
CATEGORIES:BayAreaScience.org Events
PRIORITY:0
TRANSP:TRANSPARENT
END:VEVENT
END:VCALENDAR