BEGIN:VCALENDAR
VERSION:2.0
METHOD:PUBLISH
CALSCALE:GREGORIAN
PRODID:-//Refresh Web Development//Helios Calendar//EN
X-FROM-URL:https://www.bayareascience.org/calendar/index.php?com=details&eID=5434
X-WR-RELCALID:BayAreaScience.org My Einstein: Personal Memories of Albert Einstein 20111021T200000
X-WR-TIMEZONE:America/New_York
X-WR-CALNAME:BayAreaScience.org
BEGIN:VEVENT
URL;VALUE=URI:https://www.bayareascience.org/calendar/index.php?com=detail&eID=5434
DTSTART:20111021T200000
DTEND:20111021T200000
SUMMARY:My Einstein: Personal Memories of Albert Einstein
DESCRIPTION:Join us for an intimate conversation with Stephanie Asker\, family friend of Albert Einstein. She will share her personal stories\, photos and home movies from her childhood - including how the Center...\n______________________________\nThis Event Downloaded From a Helios Calendar Powered Site
LOCATION:Chabot Space and Science Center - 10000 Skyline Blvd \, Oakland\, CA USA 94619
CATEGORIES:BayAreaScience.org Events
PRIORITY:0
TRANSP:TRANSPARENT
END:VEVENT
END:VCALENDAR