BEGIN:VCALENDAR
VERSION:2.0
METHOD:PUBLISH
CALSCALE:GREGORIAN
PRODID:-//Refresh Web Development//Helios Calendar//EN
X-FROM-URL:https://www.bayareascience.org/calendar/index.php?com=details&eID=7003
X-WR-RELCALID:BayAreaScience.org Robots! Nightlife 20120223T180000
X-WR-TIMEZONE:America/New_York
X-WR-CALNAME:BayAreaScience.org
BEGIN:VEVENT
URL;VALUE=URI:https://www.bayareascience.org/calendar/index.php?com=detail&eID=7003
DTSTART:20120223T180000
DTEND:20120223T220000
SUMMARY:Robots! Nightlife
DESCRIPTION:Wire your circuits for a night of robotic revelry.  Meet the OrbSWARM\, a herd of autonomous beings that will flock\, flirt\, dance and interact with the crowd\;...\n______________________________\nThis Event Downloaded From a Helios Calendar Powered Site
LOCATION:California Academy of Sciences - 55 Music Concourse Dr. \, San Francisco\, CA USA 94118
CATEGORIES:BayAreaScience.org Events
PRIORITY:0
TRANSP:TRANSPARENT
END:VEVENT
END:VCALENDAR